BEGIN:VCALENDAR
VERSION:2.0
PRODID:-//千葉市稲毛のライブ＆レンタルイベントスペース「APOLLO」 - ECPv6.15.11//NONSGML v1.0//EN
CALSCALE:GREGORIAN
METHOD:PUBLISH
X-WR-CALNAME:千葉市稲毛のライブ＆レンタルイベントスペース「APOLLO」
X-ORIGINAL-URL:https://apollo-inage.net
X-WR-CALDESC:千葉市稲毛のライブ＆レンタルイベントスペース「APOLLO」 のイベント
REFRESH-INTERVAL;VALUE=DURATION:PT1H
X-Robots-Tag:noindex
X-PUBLISHED-TTL:PT1H
BEGIN:VTIMEZONE
TZID:Asia/Tokyo
BEGIN:STANDARD
TZOFFSETFROM:+0900
TZOFFSETTO:+0900
TZNAME:JST
DTSTART:20231231T150000
END:STANDARD
END:VTIMEZONE
BEGIN:VEVENT
DTSTART;VALUE=DATE:20250525
DTEND;VALUE=DATE:20250526
DTSTAMP:20260426T084404
CREATED:20250509T013708Z
LAST-MODIFIED:20250509T014333Z
UID:3302-1748134800-1748221199@apollo-inage.net
SUMMARY:中野靖之ブルースギター講座
DESCRIPTION:ブルースギタリスト中野靖之によるブルースギターのビギナー向けのワークショップを\nAPOLLOみどり台にて開催致します。これから始めたい方、はじめたての方でも参加可能です。 \n2本までギターの貸し出し可能です（レンタル料500円）\nお時間の合う方は是非ともご参加ください！ \n【中野靖之ブルースギター講座】\n5/25（日） 17:00-20:00\nAPOLLOみどり台\n千葉市稲毛区黒砂1-1-3\n参加費 ¥3000
URL:https://apollo-inage.net/event/%e4%b8%ad%e9%87%8e%e9%9d%96%e4%b9%8b%e3%83%96%e3%83%ab%e3%83%bc%e3%82%b9%e3%82%ae%e3%82%bf%e3%83%bc%e8%ac%9b%e5%ba%a7-2/
LOCATION:アポロみどり台\, 千葉県\, 千葉市稲毛区黒砂1-1-3\, 千葉県\, 263-0042\, 日本
CATEGORIES:講座
ATTACH;FMTTYPE=image/jpeg:https://apollo-inage.net/wp-content/uploads/2025/05/560101494636937303-SHO.jpg
END:VEVENT
BEGIN:VEVENT
DTSTART;VALUE=DATE:20250216
DTEND;VALUE=DATE:20250217
DTSTAMP:20260426T084404
CREATED:20250120T054143Z
LAST-MODIFIED:20250120T054632Z
UID:3187-1739667600-1739753999@apollo-inage.net
SUMMARY:中野靖之ブルースギター講座
DESCRIPTION:  \nこんにちは\nブルースギタリスト中野靖之によるブルースギターのビギナー向けのワークショップを APOLLOみどり台にて開催致します。これから始めたい方、はじめたての方でも参加可能です。\n2本までギターの貸し出し可能です（レンタル料500円）\nお時間の合う方は是非ともご参加ください！ \n2025 2月16日（日）\n会場：APOLLO みどり台\n住所：千葉市稲毛区黒砂1-1-3\n（京成みどり台駅徒歩1分）\n参加費：3\,000円\n 
URL:https://apollo-inage.net/event/%e4%b8%ad%e9%87%8e%e9%9d%96%e4%b9%8b%e3%83%96%e3%83%ab%e3%83%bc%e3%82%b9%e3%82%ae%e3%82%bf%e3%83%bc%e8%ac%9b%e5%ba%a7/
LOCATION:アポロみどり台\, 千葉県\, 千葉市稲毛区黒砂1-1-3\, 千葉県\, 263-0042\, 日本
CATEGORIES:講座
ATTACH;FMTTYPE=image/jpeg:https://apollo-inage.net/wp-content/uploads/2025/01/665a653628122aa1dad6f660f80df1db.jpg
END:VEVENT
END:VCALENDAR