BEGIN:VCALENDAR
VERSION:2.0
PRODID:-//千葉市稲毛のライブ＆レンタルイベントスペース「APOLLO」 - ECPv6.15.11//NONSGML v1.0//EN
CALSCALE:GREGORIAN
METHOD:PUBLISH
X-ORIGINAL-URL:https://apollo-inage.net
X-WR-CALDESC:千葉市稲毛のライブ＆レンタルイベントスペース「APOLLO」 のイベント
REFRESH-INTERVAL;VALUE=DURATION:PT1H
X-Robots-Tag:noindex
X-PUBLISHED-TTL:PT1H
BEGIN:VTIMEZONE
TZID:Asia/Tokyo
BEGIN:STANDARD
TZOFFSETFROM:+0900
TZOFFSETTO:+0900
TZNAME:JST
DTSTART:20231231T150000
END:STANDARD
END:VTIMEZONE
BEGIN:VEVENT
DTSTART;VALUE=DATE:20251023
DTEND;VALUE=DATE:20251024
DTSTAMP:20260426T121559
CREATED:20250902T112646Z
LAST-MODIFIED:20251002T022914Z
UID:4385-1761181200-1761267599@apollo-inage.net
SUMMARY:APOLLO JAM
DESCRIPTION:次回のAPOLLO JAMは10/23（木）\n誰でも参加自由なジャムセッション！ \nHost Musician\nみどりん（ds） @midorin0130\nイワチャン（gt）@iwamotoguitar\nErykah（sax）@djerykah \nここのところ毎月最高動員数を突破しております！ \n毎回過去一なセッションイベントとなっております！ \nパフォーマーもリスナーも楽しく交わえる”at home” なミュージックスポットAPOLLO。 \n日々ネクストレベルを目指せるそんなセッションの形を目指しています。天から降りてくるようなイメージ、即興でしか味わえない臨場感を是非ともお楽しみください！ \nパフォーマーもリスナーもどなたでも参加可能！\n楽器を持ってきて一緒に遊びましょう！ \n18:00 OPEN\n19:00 START \nEntrance ¥1500\n飲食綴りチケット¥2000（３枚）〜
URL:https://apollo-inage.net/event/apollo-jam-5/
LOCATION:アポロ稲毛（APOLLO）\, 千葉県\, 千葉市稲毛区黒砂1-1-3\, 千葉県\, 263-0042\, 日本
CATEGORIES:ジャムセッション
ATTACH;FMTTYPE=image/jpeg:https://apollo-inage.net/wp-content/uploads/2025/10/S__11264056.jpg
END:VEVENT
END:VCALENDAR