BEGIN:VCALENDAR
VERSION:2.0
PRODID:-//千葉市稲毛のライブ＆レンタルイベントスペース「APOLLO」 - ECPv6.15.11//NONSGML v1.0//EN
CALSCALE:GREGORIAN
METHOD:PUBLISH
X-ORIGINAL-URL:https://apollo-inage.net
X-WR-CALDESC:千葉市稲毛のライブ＆レンタルイベントスペース「APOLLO」 のイベント
REFRESH-INTERVAL;VALUE=DURATION:PT1H
X-Robots-Tag:noindex
X-PUBLISHED-TTL:PT1H
BEGIN:VTIMEZONE
TZID:Asia/Tokyo
BEGIN:STANDARD
TZOFFSETFROM:+0900
TZOFFSETTO:+0900
TZNAME:JST
DTSTART:20231231T150000
END:STANDARD
END:VTIMEZONE
BEGIN:VEVENT
DTSTART;VALUE=DATE:20251228
DTEND;VALUE=DATE:20251229
DTSTAMP:20260426T122749
CREATED:20251124T150037Z
LAST-MODIFIED:20251125T061405Z
UID:4499-1766883600-1766969999@apollo-inage.net
SUMMARY:APOLLO JAM
DESCRIPTION:12月の《APOLLO JAM》は 12/28日！ \n  \n毎回、予想を超える名演が生まれるAPOLLOの人気セッションイベント🎸🥁 \n今回のホストは… \n  \n🥁 Midorin（Drums） \n🎸 Iwachan（Guitar） \n🎷 Erykah（Sax） \n🎸 KOTA（Bass） \n  \n鉄壁の４人がグルーヴを操り、その場にいる全員を巻き込む“音の冒険”へ。 \nもちろん、飛び入り参加も大歓迎！手ぶらでも、聴くだけでもOK✨ \n  \n🗓️ 12/28SUN \n🕖 19:00 Start / 18:00 Open \n🎟 Entrance 1\,500yen \n🍸 Drink Tickets 2\,000yen〜 \n📍みどり台 APOLLO \n  \n🔥 この夜だけの音を、一緒に体験しよう！ \n 
URL:https://apollo-inage.net/event/apollo-jam-7/
LOCATION:アポロみどり台\, 千葉県\, 千葉市稲毛区黒砂1-1-3\, 千葉県\, 263-0042\, 日本
CATEGORIES:ジャムセッション
ATTACH;FMTTYPE=image/jpeg:https://apollo-inage.net/wp-content/uploads/2025/11/APOLLO-JAM.jpg
END:VEVENT
BEGIN:VEVENT
DTSTART;VALUE=DATE:20260314
DTEND;VALUE=DATE:20260315
DTSTAMP:20260426T122749
CREATED:20260309T010009Z
LAST-MODIFIED:20260309T013648Z
UID:5788-1773450000-1773536399@apollo-inage.net
SUMMARY:SOUL AMIGOS - White Riot -
DESCRIPTION:  \nSOUL AMIGOS – White Riot –\n  \nソウル、ファンク、レアグルーヴ、ディスコ。\nレコードの温もりとグルーヴを愛する仲間たちがAPOLLOに集結。 \naoky / KOOTARO / TOKU / MORIPUKI\nそしてスペシャルゲストにはDJ OhMyGod が登場。 \nそれぞれのセレクトが重なり合い、一晩かけてフロアを温めていきます。\n音楽好きはもちろん、お酒を飲みながらゆっくり音を楽しみたい方もぜひ。\nレコードとグルーヴに浸るソウルフルな夜を一緒に楽しみましょう。 \nSOUL AMIGOS – White Riot – \n2026.3.14 (Sat)\nOPEN 17:00 – 23:00\nEntrance ¥2\,000 (1Drink)
URL:https://apollo-inage.net/event/soul-amigos-white-riot/
LOCATION:アポロ稲毛（APOLLO）\, 千葉県\, 千葉市稲毛区黒砂1-1-3\, 千葉県\, 263-0042\, 日本
CATEGORIES:ジャムセッション
ATTACH;FMTTYPE=image/jpeg:https://apollo-inage.net/wp-content/uploads/2026/03/SOUL-AMIGOS-White-Riot-.jpg
END:VEVENT
BEGIN:VEVENT
DTSTART;VALUE=DATE:20260326
DTEND;VALUE=DATE:20260327
DTSTAMP:20260426T122749
CREATED:20260318T043655Z
LAST-MODIFIED:20260318T043502Z
UID:5887-1774486800-1774573199@apollo-inage.net
SUMMARY:APOLLO　JAM
DESCRIPTION:誰でも参加自由のジャムセッション！ \n  \nHost Musician \nみどりん(ds) @midorin0130 \nイワチャン （gt）@iwamotoguitar \nErykah (sax) @djerykah \n  \nここ数か月、毎回”過去最高”の盛り上がりを更新中！ \n音楽好きが集まり、演奏する人も聴く人も自然に交わる \n  \n“at home” なミュージックスポット APOLLO。 \n楽器を持って飛び入り参加もOK！ \n  \n聴くだけでも楽しめます。 \n即興で生まれるグルーヴ、予測不能な音のぶつかり合い、ここでしか味わえない一夜を。 \nお気軽にお越しください★
URL:https://apollo-inage.net/event/shinsuke-sugahara-live-apollo-feat-rab-from-soulflex-copy-copy-copy/
LOCATION:アポロ稲毛（APOLLO）\, 千葉県\, 千葉市稲毛区黒砂1-1-3\, 千葉県\, 263-0042\, 日本
CATEGORIES:ジャムセッション
ATTACH;FMTTYPE=image/jpeg:https://apollo-inage.net/wp-content/uploads/2026/03/605616215397761506.jpg
END:VEVENT
END:VCALENDAR