BEGIN:VCALENDAR
VERSION:2.0
PRODID:-//千葉市稲毛のライブ＆レンタルイベントスペース「APOLLO」 - ECPv6.15.11//NONSGML v1.0//EN
CALSCALE:GREGORIAN
METHOD:PUBLISH
X-WR-CALNAME:千葉市稲毛のライブ＆レンタルイベントスペース「APOLLO」
X-ORIGINAL-URL:https://apollo-inage.net
X-WR-CALDESC:千葉市稲毛のライブ＆レンタルイベントスペース「APOLLO」 のイベント
REFRESH-INTERVAL;VALUE=DURATION:PT1H
X-Robots-Tag:noindex
X-PUBLISHED-TTL:PT1H
BEGIN:VTIMEZONE
TZID:Asia/Tokyo
BEGIN:STANDARD
TZOFFSETFROM:+0900
TZOFFSETTO:+0900
TZNAME:JST
DTSTART:20221231T150000
END:STANDARD
END:VTIMEZONE
BEGIN:VEVENT
DTSTART;VALUE=DATE:20240830
DTEND;VALUE=DATE:20240831
DTSTAMP:20260426T014807
CREATED:20240701T115520Z
LAST-MODIFIED:20240822T023115Z
UID:2726-1724979600-1725065999@apollo-inage.net
SUMMARY:APOLLO JAM EVERY LAST WEDNESDAY
DESCRIPTION:APOLLO JAM EVERY LAST WEDNESDAY 19：00 START\nAT APOLLO INGAGE\nジャムセッションパーティー！！ ソウル・ジャズ・ブルースをはじめとしたオールジャンルのセッションです 楽器を演奏しても歌ってもOK！！聴きたい飲みたい方も大歓迎！！ みなさまのお越しをお待ちしています \nCHARGE\n5 Tickets：¥3\,000 10 Tickets：¥5\,000 ドリンクやフードと引き換えられるチケットです ホストミュージシャンへの投げ銭もお願いします♡ \nACCESS\nJR稲毛駅下車　西口より徒歩1分 稲毛デンタルクリニック 店内エレベーターから4F Inagehigashi 3-20-8 Inage-ku Chiba 千葉県千葉市稲毛区稲毛東３丁目２０−８
URL:https://apollo-inage.net/event/0701/
LOCATION:アポロ稲毛（APOLLO）\, 千葉県\, 千葉市稲毛区黒砂1-1-3\, 千葉県\, 263-0042\, 日本
CATEGORIES:ジャムセッション
ATTACH;FMTTYPE=image/jpeg:https://apollo-inage.net/wp-content/uploads/2024/01/A937F5C120E150560F12815B8F32C8B1A55317C9-SHO.jpeg
END:VEVENT
BEGIN:VEVENT
DTSTART;VALUE=DATE:20240731
DTEND;VALUE=DATE:20240801
DTSTAMP:20260426T014807
CREATED:20240601T115345Z
LAST-MODIFIED:20240409T025451Z
UID:2724-1722387600-1722473999@apollo-inage.net
SUMMARY:APOLLO JAM EVERY LAST WEDNESDAY
DESCRIPTION:APOLLO JAM\nEVERY LAST WEDNESDAY 19：00 START\nAT APOLLO INGAGE\n毎月最終水曜日開催のジャムセッションパーティー！！\nソウル・ジャズ・ブルースをはじめとしたオールジャンルのセッションです\n楽器を演奏しても歌ってもOK！！聴きたい飲みたい方も大歓迎！！\nみなさまのお越しをお待ちしています \nCHARGE\n5 Tickets：¥3\,000\n10 Tickets：¥5\,000 \nドリンクやフードと引き換えられるチケットです\nホストミュージシャンへの投げ銭もお願いします♡ \n  \nACCESS\nJR稲毛駅下車　西口より徒歩1分\n稲毛デンタルクリニック 店内エレベーターから4F\nInagehigashi 3-20-8 Inage-ku Chiba\n千葉県千葉市稲毛区稲毛東３丁目２０−８ \n 
URL:https://apollo-inage.net/event/0601/
LOCATION:アポロ稲毛（APOLLO）\, 千葉県\, 千葉市稲毛区黒砂1-1-3\, 千葉県\, 263-0042\, 日本
CATEGORIES:ジャムセッション
ATTACH;FMTTYPE=image/jpeg:https://apollo-inage.net/wp-content/uploads/2024/01/A937F5C120E150560F12815B8F32C8B1A55317C9-SHO.jpeg
END:VEVENT
BEGIN:VEVENT
DTSTART;VALUE=DATE:20240626
DTEND;VALUE=DATE:20240627
DTSTAMP:20260426T014807
CREATED:20240501T115057Z
LAST-MODIFIED:20240409T025152Z
UID:2722-1719363600-1719449999@apollo-inage.net
SUMMARY:APOLLO JAM EVERY LAST WEDNESDAY
DESCRIPTION:APOLLO JAM\nEVERY LAST WEDNESDAY 19：00 START\nAT APOLLO INGAGE\n毎月最終水曜日開催のジャムセッションパーティー！！\nソウル・ジャズ・ブルースをはじめとしたオールジャンルのセッションです\n楽器を演奏しても歌ってもOK！！聴きたい飲みたい方も大歓迎！！\nみなさまのお越しをお待ちしています \nCHARGE\n5 Tickets：¥3\,000\n10 Tickets：¥5\,000 \nドリンクやフードと引き換えられるチケットです\nホストミュージシャンへの投げ銭もお願いします♡ \n  \nACCESS\nJR稲毛駅下車　西口より徒歩1分\n稲毛デンタルクリニック 店内エレベーターから4F\nInagehigashi 3-20-8 Inage-ku Chiba\n千葉県千葉市稲毛区稲毛東３丁目２０−８ \n 
URL:https://apollo-inage.net/event/0501/
LOCATION:アポロ稲毛（APOLLO）\, 千葉県\, 千葉市稲毛区黒砂1-1-3\, 千葉県\, 263-0042\, 日本
CATEGORIES:ジャムセッション
ATTACH;FMTTYPE=image/jpeg:https://apollo-inage.net/wp-content/uploads/2024/01/A937F5C120E150560F12815B8F32C8B1A55317C9-SHO.jpeg
END:VEVENT
BEGIN:VEVENT
DTSTART;VALUE=DATE:20240529
DTEND;VALUE=DATE:20240530
DTSTAMP:20260426T014807
CREATED:20240409T114419Z
LAST-MODIFIED:20240409T024813Z
UID:2719-1716944400-1717030799@apollo-inage.net
SUMMARY:APOLLO JAM EVERY LAST WEDNESDAY
DESCRIPTION:APOLLO JAM\nEVERY LAST WEDNESDAY 19：00 START\nAT APOLLO INGAGE\n毎月最終水曜日開催のジャムセッションパーティー！！\nソウル・ジャズ・ブルースをはじめとしたオールジャンルのセッションです\n楽器を演奏しても歌ってもOK！！聴きたい飲みたい方も大歓迎！！\nみなさまのお越しをお待ちしています \nCHARGE\n5 Tickets：¥3\,000\n10 Tickets：¥5\,000 \nドリンクやフードと引き換えられるチケットです\nホストミュージシャンへの投げ銭もお願いします♡ \n  \nACCESS\nJR稲毛駅下車　西口より徒歩1分\n稲毛デンタルクリニック 店内エレベーターから4F\nInagehigashi 3-20-8 Inage-ku Chiba\n千葉県千葉市稲毛区稲毛東３丁目２０−８ \n 
URL:https://apollo-inage.net/event/0409/
LOCATION:アポロ稲毛（APOLLO）\, 千葉県\, 千葉市稲毛区黒砂1-1-3\, 千葉県\, 263-0042\, 日本
CATEGORIES:ジャムセッション
ATTACH;FMTTYPE=image/jpeg:https://apollo-inage.net/wp-content/uploads/2024/01/A937F5C120E150560F12815B8F32C8B1A55317C9-SHO.jpeg
END:VEVENT
BEGIN:VEVENT
DTSTART;VALUE=DATE:20240424
DTEND;VALUE=DATE:20240425
DTSTAMP:20260426T014807
CREATED:20240327T030011Z
LAST-MODIFIED:20240208T061750Z
UID:2664-1713920400-1714006799@apollo-inage.net
SUMMARY:APOLLO JAM EVERY LAST WEDNESDAY
DESCRIPTION:APOLLO JAM\nEVERY LAST WEDNESDAY 19：00 START\nAT APOLLO INGAGE\n毎月最終水曜日開催のジャムセッションパーティー！！\nソウル・ジャズ・ブルースをはじめとしたオールジャンルのセッションです\n楽器を演奏しても歌ってもOK！！聴きたい飲みたい方も大歓迎！！\nみなさまのお越しをお待ちしています \nCHARGE\n5 Tickets：¥3\,000\n10 Tickets：¥5\,000 \nドリンクやフードと引き換えられるチケットです\nホストミュージシャンへの投げ銭もお願いします♡ \n  \nACCESS\nJR稲毛駅下車　西口より徒歩1分\n稲毛デンタルクリニック 店内エレベーターから4F\nInagehigashi 3-20-8 Inage-ku Chiba\n千葉県千葉市稲毛区稲毛東３丁目２０−８ \n 
URL:https://apollo-inage.net/event/2654-copy/
LOCATION:アポロ稲毛（APOLLO）\, 千葉県\, 千葉市稲毛区黒砂1-1-3\, 千葉県\, 263-0042\, 日本
CATEGORIES:ジャムセッション
ATTACH;FMTTYPE=image/jpeg:https://apollo-inage.net/wp-content/uploads/2024/01/A937F5C120E150560F12815B8F32C8B1A55317C9-SHO.jpeg
END:VEVENT
BEGIN:VEVENT
DTSTART;VALUE=DATE:20240327
DTEND;VALUE=DATE:20240328
DTSTAMP:20260426T014807
CREATED:20240207T140258Z
LAST-MODIFIED:20240208T061732Z
UID:2666-1711501200-1711587599@apollo-inage.net
SUMMARY:APOLLO JAM EVERY LAST WEDNESDAY
DESCRIPTION:APOLLO JAM\nEVERY LAST WEDNESDAY 19：00 START\nAT APOLLO INGAGE\n毎月最終水曜日開催のジャムセッションパーティー！！\nソウル・ジャズ・ブルースをはじめとしたオールジャンルのセッションです\n楽器を演奏しても歌ってもOK！！聴きたい飲みたい方も大歓迎！！\nみなさまのお越しをお待ちしています \nCHARGE\n5 Tickets：¥3\,000\n10 Tickets：¥5\,000 \nドリンクやフードと引き換えられるチケットです\nホストミュージシャンへの投げ銭もお願いします♡ \n  \nACCESS\nJR稲毛駅下車　西口より徒歩1分\n稲毛デンタルクリニック 店内エレベーターから4F\nInagehigashi 3-20-8 Inage-ku Chiba\n千葉県千葉市稲毛区稲毛東３丁目２０−８ \n 
URL:https://apollo-inage.net/event/2654-03/
LOCATION:アポロ稲毛（APOLLO）\, 千葉県\, 千葉市稲毛区黒砂1-1-3\, 千葉県\, 263-0042\, 日本
CATEGORIES:ジャムセッション
ATTACH;FMTTYPE=image/jpeg:https://apollo-inage.net/wp-content/uploads/2024/01/A937F5C120E150560F12815B8F32C8B1A55317C9-SHO.jpeg
END:VEVENT
BEGIN:VEVENT
DTSTART;VALUE=DATE:20240228
DTEND;VALUE=DATE:20240229
DTSTAMP:20260426T014807
CREATED:20240131T070117Z
LAST-MODIFIED:20240208T061713Z
UID:2654-1709082000-1709168399@apollo-inage.net
SUMMARY:APOLLO JAM EVERY LAST WEDNESDAY
DESCRIPTION:APOLLO JAM\nEVERY LAST WEDNESDAY 19：00 START\nAT APOLLO INGAGE\n毎月最終水曜日開催のジャムセッションパーティー！！\nソウル・ジャズ・ブルースをはじめとしたオールジャンルのセッションです\n楽器を演奏しても歌ってもOK！！聴きたい飲みたい方も大歓迎！！\nみなさまのお越しをお待ちしています \nCHARGE\n5 Tickets：¥3\,000\n10 Tickets：¥5\,000 \nドリンクやフードと引き換えられるチケットです\nホストミュージシャンへの投げ銭もお願いします♡ \n  \nACCESS\nJR稲毛駅下車　西口より徒歩1分\n稲毛デンタルクリニック 店内エレベーターから4F\nInagehigashi 3-20-8 Inage-ku Chiba\n千葉県千葉市稲毛区稲毛東３丁目２０−８ \n 
URL:https://apollo-inage.net/event/2654/
LOCATION:アポロ稲毛（APOLLO）\, 千葉県\, 千葉市稲毛区黒砂1-1-3\, 千葉県\, 263-0042\, 日本
CATEGORIES:ジャムセッション
ATTACH;FMTTYPE=image/jpeg:https://apollo-inage.net/wp-content/uploads/2024/01/A937F5C120E150560F12815B8F32C8B1A55317C9-SHO.jpeg
END:VEVENT
END:VCALENDAR